BEGIN:VCALENDAR
PRODID:-//Microsoft Corporation//Outlook 12.0 MIMEDIR//EN
VERSION:2.0
CALSCALE:GREGORIAN
BEGIN:VEVENT
UID: a6dbeb3a-78c4-4684-8a6f-e3a6b1a482ea
SUMMARY:Töövarjupäev (9.kl)
DTSTAMP:20211118T090000
DTSTART:20211118T090000
DTEND:20211118T153500
LOCATION:
DESCRIPTION: <p><strong>Link: </strong>https://maetaguse.edu.ee/et/sundmuste-kalender/toovarjupaev-9kl</p><p><strong>Hind: </strong></p>
STATUS:CONFIRMED
SEQUENCE:3
X-ALT-DESC;FMTTYPE=text/html:<p><strong>Link: </strong>https://maetaguse.edu.ee/et/sundmuste-kalender/toovarjupaev-9kl</p><p><strong>Hind: </strong></p>
X-MICROSOFT-CDO-BUSYSTATUS:OOF
X-MICROSOFT-CDO-IMPORTANCE:1
X-MICROSOFT-DISALLOW-COUNTER:FALSE
X-MS-OLK-ALLOWEXTERNCHECK:TRUE
X-MS-OLK-CONFTYPE:0
X-MICROSOFT-CDO-ALLDAYEVENT:
X-MICROSOFT-MSNCALENDAR-ALLDAYEVENT:
END:VEVENT
END:VCALENDAR